BEGIN:VCALENDAR
VERSION:2.0
PRODID:-//ICRI Minnesota - ECPv6.15.17//NONSGML v1.0//EN
CALSCALE:GREGORIAN
METHOD:PUBLISH
X-WR-CALNAME:ICRI Minnesota
X-ORIGINAL-URL:https://icrimn.com
X-WR-CALDESC:Events for ICRI Minnesota
REFRESH-INTERVAL;VALUE=DURATION:PT1H
X-Robots-Tag:noindex
X-PUBLISHED-TTL:PT1H
BEGIN:VTIMEZONE
TZID:America/Chicago
BEGIN:DAYLIGHT
TZOFFSETFROM:-0600
TZOFFSETTO:-0500
TZNAME:CDT
DTSTART:20230312T080000
END:DAYLIGHT
BEGIN:STANDARD
TZOFFSETFROM:-0500
TZOFFSETTO:-0600
TZNAME:CST
DTSTART:20231105T070000
END:STANDARD
BEGIN:DAYLIGHT
TZOFFSETFROM:-0600
TZOFFSETTO:-0500
TZNAME:CDT
DTSTART:20240310T080000
END:DAYLIGHT
BEGIN:STANDARD
TZOFFSETFROM:-0500
TZOFFSETTO:-0600
TZNAME:CST
DTSTART:20241103T070000
END:STANDARD
BEGIN:DAYLIGHT
TZOFFSETFROM:-0600
TZOFFSETTO:-0500
TZNAME:CDT
DTSTART:20250309T080000
END:DAYLIGHT
BEGIN:STANDARD
TZOFFSETFROM:-0500
TZOFFSETTO:-0600
TZNAME:CST
DTSTART:20251102T070000
END:STANDARD
END:VTIMEZONE
BEGIN:VEVENT
DTSTART;TZID=America/Chicago:20240709T163000
DTEND;TZID=America/Chicago:20240709T183000
DTSTAMP:20260424T225723
CREATED:20240619T161317Z
LAST-MODIFIED:20240708T191926Z
UID:20361-1720542600-1720549800@icrimn.com
SUMMARY:ICRI National Social Hour
DESCRIPTION:ICRI National Social Hour!\nJoin our chapter and representatives from ICRI National for a fun event.\nWe will have a hosted bar with appetizers.\nBring a guest! \nDate & Time: \nDate: July 9\, 2024\nTime: 5:30-7:30 pm \nLocation:\nUmbra Bar at the Canopy by Hilton\n708 S 3rd St\, Minneapolis\, MN 55415
URL:https://icrimn.com/event/icri-national-social-hour/
LOCATION:Canopy Hotel Minneapolis\, 708 S 3rd St\, Minneapolis\, MN\, 55415\, United States
END:VEVENT
END:VCALENDAR