BEGIN:VCALENDAR
VERSION:2.0
PRODID:-//ICRI Minnesota - ECPv6.15.17//NONSGML v1.0//EN
CALSCALE:GREGORIAN
METHOD:PUBLISH
X-ORIGINAL-URL:https://icrimn.com
X-WR-CALDESC:Events for ICRI Minnesota
REFRESH-INTERVAL;VALUE=DURATION:PT1H
X-Robots-Tag:noindex
X-PUBLISHED-TTL:PT1H
BEGIN:VTIMEZONE
TZID:America/Chicago
BEGIN:DAYLIGHT
TZOFFSETFROM:-0600
TZOFFSETTO:-0500
TZNAME:CDT
DTSTART:20240310T080000
END:DAYLIGHT
BEGIN:STANDARD
TZOFFSETFROM:-0500
TZOFFSETTO:-0600
TZNAME:CST
DTSTART:20241103T070000
END:STANDARD
BEGIN:DAYLIGHT
TZOFFSETFROM:-0600
TZOFFSETTO:-0500
TZNAME:CDT
DTSTART:20250309T080000
END:DAYLIGHT
BEGIN:STANDARD
TZOFFSETFROM:-0500
TZOFFSETTO:-0600
TZNAME:CST
DTSTART:20251102T070000
END:STANDARD
BEGIN:DAYLIGHT
TZOFFSETFROM:-0600
TZOFFSETTO:-0500
TZNAME:CDT
DTSTART:20260308T080000
END:DAYLIGHT
BEGIN:STANDARD
TZOFFSETFROM:-0500
TZOFFSETTO:-0600
TZNAME:CST
DTSTART:20261101T070000
END:STANDARD
BEGIN:DAYLIGHT
TZOFFSETFROM:-0600
TZOFFSETTO:-0500
TZNAME:CDT
DTSTART:20270314T080000
END:DAYLIGHT
BEGIN:STANDARD
TZOFFSETFROM:-0500
TZOFFSETTO:-0600
TZNAME:CST
DTSTART:20271107T070000
END:STANDARD
END:VTIMEZONE
BEGIN:VEVENT
DTSTART;TZID=America/Chicago:20250508T080000
DTEND;TZID=America/Chicago:20250508T100000
DTSTAMP:20260424T103838
CREATED:20250131T165857Z
LAST-MODIFIED:20250320T153137Z
UID:21002-1746691200-1746698400@icrimn.com
SUMMARY:Spring Technical Session - Champlain Towers South Collapse Analysis
DESCRIPTION:Summary: Early on the morning of June 24\, 2021\, the Champlain Towers South condominium building in Surfside\, Florida\, suffered a partial collapse that caused the deaths of 98 people. This presentation will provide an overview of WJE’s investigation of the collapse. It will focus largely on structural analysis efforts to evaluate multiple collapse theories\, including a discussion of code\, design\, and construction deficiencies that likely contributed. \nBio Jeff Rautenberg: Throughout Jeff Rautenberg’s 14-year tenure with WJE\, his projects have ranged from collapse investigations of high-rise buildings to fire-damage assessments in single-family homes\, to seismic retrofits of century-old brick and stone cathedrals. He received his BS\, MS\, and PhD in structural engineering from Purdue University and is licensed in multiple states. He is active in the professional engineering community\, serving on the ACI 318 building code committee\, as chair of the ACI 445B subcommittee on seismic shear\, and on ACI 374 for performance-based seismic design of concrete bu \n \nBio Tanner Swenson: Tanner Swenson is a Senior Associate structural engineer with 10 years of experience at WJE. His wide-ranging experience includes investigation of structural failures\, repair/rehabilitation of concrete structures\, and bridge engineering. Tanner received his BS in civil engineering and MS in structural engineering from the University of Minnesota\, and he is a licensed professional engineer in multiple states. \n \n 
URL:https://icrimn.com/event/spring-technical-session-2/
LOCATION:605 Waterford Park\, 605 US-169 Frontage Rd\, Plymouth\, MN\, 55441\, United States
ATTACH;FMTTYPE=image/jpeg:https://icrimn.com/wp-content/uploads/2025/01/22222.jpg
END:VEVENT
BEGIN:VEVENT
DTSTART;VALUE=DATE:20250611
DTEND;VALUE=DATE:20250613
DTSTAMP:20260424T103838
CREATED:20250131T165537Z
LAST-MODIFIED:20250530T132611Z
UID:20999-1749682800-1749769199@icrimn.com
SUMMARY:Annual Bags Tournament
DESCRIPTION:Bags Tournament \nForgotten Star Brewery \n38 Northern Stacks Dr\, Fridley\, MN 55421 \nTournament Starts at NOON. \nPlease arrive 30 minutes prior for registration. \n2025 ICRI MN Platinum Sponsors – FREE Team
URL:https://icrimn.com/event/annual-bags-tournament-2/
ATTACH;FMTTYPE=image/jpeg:https://icrimn.com/wp-content/uploads/2023/05/dc8f7f47-ad5e-a29f-21fe-4c5e2ba19b69.jpeg
END:VEVENT
BEGIN:VEVENT
DTSTART;VALUE=DATE:20250714
DTEND;VALUE=DATE:20250716
DTSTAMP:20260424T103838
CREATED:20240108T175219Z
LAST-MODIFIED:20250704T133752Z
UID:4524-1752534000-1752620399@icrimn.com
SUMMARY:Annual ICRI Golf Tournament 2025
DESCRIPTION:ICRI Annual Golf Tournament Tuesday July 15\, 2025\nAt Bunker Hills Golf Course\nEarly Bird Tickets Available May 19\, 2025\nSchedule:\nRegistration Opens – 8:30am Shotgun Start – 10:00am Post-Golf Reception – 2:00pm \nTicket Information:\nEarly-Bird Pricing (May 19-June 27): Individual: $155 Foursome: $620 Standard Pricing (Past June 27): Individual: $180 Foursome: $720 Join the ICRI MN Chapter for our Annual Golf even Scholarship fundraiser. This years’ tournament will be held at Bunker Hills. Show up early for some practice swings at the open driving range and putting green. Join your friends and network on the course. After golf we’ll have a brier awards presentation and door prizes then stay and grab a drink and have a bit to eat at Kendall’s Tavern. Each year the ICRI MN Chapter offers scholarships for students who are enrolled in a College or University program with a focus in engineering\, construction\, or concrete sciences. A full description and the application can be found here. \n\n\n\nSponsorship\nValue\nCompany Sign at Tee Box\n \nAttendant/Game at Tee Box\n \n$250 in Door prizes Donated in Company Name\n \n1 Drink Ticket per Golfer with Company Logo\n\n\nPar\n$100\nX\n\n\n\n\n\n\n\n\nBirdie\n$250\nX\n\nX\n\n\n\n\n\n\nEagle\n$500\nX\n\nX\n\nX\n\n\n\n\n     Albatross          (1 Available)\n$1\,500\nX\n\nX\n\n\n\nX\n\n\n\n  \nRegistration is now Full\nFor questions on registration contact Adam Bakeman at abakeman@walkerconsultants.com\nHave a Great Day!\n 
URL:https://icrimn.com/event/annual-icri-golf-tournament-2025/
LOCATION:Bunker Hills Golf Club\, 12800 Bunker Prairie Rd NW\, Coon Rapids\, MN\, 55448\, United States
ATTACH;FMTTYPE=image/png:https://icrimn.com/wp-content/uploads/2024/01/Copy-of-Terry-Babcock-Memorial-Golf-Tournament-Instagram-Post-1920-x-1080-px.png
END:VEVENT
BEGIN:VEVENT
DTSTART;TZID=America/Chicago:20250923T090000
DTEND;TZID=America/Chicago:20250923T110000
DTSTAMP:20260424T103838
CREATED:20250829T180415Z
LAST-MODIFIED:20250919T165503Z
UID:21407-1758618000-1758625200@icrimn.com
SUMMARY:MN ICRI - MNSEA YMG - MN DOT Bridge Tour
DESCRIPTION:Summary: MN DOT is organizing a tour of bridge preservation work\, including a bridge deck mill and overlay\, expansion joint replacement\, and slab span underside concrete repair. \nDate & Time : \n\n\nDate: Tuesday\, September 23\, 2025\nCost: FREE\n\nLocation:\nOlson Memorial Highway\nGolden Valley\, MN
URL:https://icrimn.com/event/mn-icri-mnsea-ymg-mn-dot-bridge-tour/
ATTACH;FMTTYPE=image/jpeg:https://icrimn.com/wp-content/uploads/2025/08/olson-mem-hwy-bridge.jpg
END:VEVENT
BEGIN:VEVENT
DTSTART;TZID=America/Chicago:20251007T070000
DTEND;TZID=America/Chicago:20251007T090000
DTSTAMP:20260424T103838
CREATED:20250829T181039Z
LAST-MODIFIED:20251003T182100Z
UID:21410-1759820400-1759827600@icrimn.com
SUMMARY:Fall Technical Session 2025
DESCRIPTION:Fall Technical Session\nBuilding Permit Requirements and Concrete Restoration\nSummary: Scott Holm and Zack O’Grady will present the latest and most up-to-date information regarding building code permit processes\, requirements\, special inspections\, and building components that require permits.\nDate: October 7\, 2025\nTime: 8:00-10:00 am. Registration will open at 7:30 am with coffee and donuts provided.\nLocation: American Engineering Testing\, Inc. (AET)\, 550 Cleveland Ave N\, St Paul\, MN 55114\nSpeaker Information:\nZack O’Grady \nDirector of Project Management \nZack has 16 years of construction management experience completing new construction and tenant improvement projects in a variety of sectors\, including commercial\, higher education\, multi-family\, worship\, office and warehouse\, residential\, and specialty subcontracting. He graduated from North Dakota State University with a B.S. Degree in Construction Management and then furthered his education at Concordia University by achieving a Master of Business Administration. \nZack is currently serving on the Board of Directors for the AGC of Minnesota\, as well as a member of the Leadership Blueprint Council. From beginning his career as a trim/specialty carpenter to working on skyscrapers across the country\, Zack has grown up within the industry and has developed the technical skills\, knowledge base\, and expertise to deliver successful projects and positive project experiences for his clients. \nIn his free time\, you can find Zack spending time with his wife and two children or pursuing one of his many outdoor hobbies. His passions include golfing\, fishing\, hunting\, camping\, snowboarding\, or any other kind of sport where he can stay active. \n \n  \n_____________________________________________________________________________ \n\nScott Holm\, CBO \n\n\nBuilding Sciences Senior Consultant \n\n\n\nMr. Holm is a Building and Structure Sciences Senior Consultant for Braun Intertec. Scott’s responsibilities include coordinating the storm shelter peer review and structural observation requirements of the International Code Council. Provides legal guidance and expert services for construction issues such as construction disputes\, construction defects and construction code compliance issues. Performs Property Condition Assessments\, according to ASTM procedures\, on a variety of building types. Perform third-party review and inspection of construction documents and specifications for NFPA 285 exterior wall assemblies and other building envelope components. Assists in the review and analysis of building component failures (i.e.\, water infiltration) and developing means of assessment and conducting investigation assignments. Assist in performing a variety of field testing\, including\, but not limited to\, window water spray testing\, blower door testing\, thermographic (infrared) inspections\, and waterproofing/air barrier testing/inspections.   \n\n\nScott’s experience has included 30 years as a building inspector\, 20 of those years for the University of Minnesota\, which involved performing plan reviews\, inspections and evaluations of building systems and installations for all new and existing buildings in accordance with the Minnesota State Building Code. This position worked as a liaison to other University departments for questions or concerns involving design\, operation\, and maintenance of building systems. The position also served as the technical code advisor and professional resource to the University construction community\, architects\, engineers\, and owners.   \n\n\nScott also teaches courses in the Construction Management programs at the University of Minnesota\, Dakota County Technical College\, and Dunwoody College of Technology. He currently serves on the Minnesota State Board of AELSLAGID as a public member\, serves as the Vice Chair on the International Code Council’s Education Committee\, and faculty member for the University of Minnesota Construction Management Advisory Board.  
URL:https://icrimn.com/event/fall-technical-session-2025/
LOCATION:American Engineering Testing\, Inc.\, 550 Cleveland Ave N\, Saint Paul\, MN\, 55114\, United States
ATTACH;FMTTYPE=image/jpeg:https://icrimn.com/wp-content/uploads/2025/08/Fall-Tech.jpg
END:VEVENT
BEGIN:VEVENT
DTSTART;TZID=America/Chicago:20251216T160000
DTEND;TZID=America/Chicago:20251216T180000
DTSTAMP:20260424T103838
CREATED:20251031T143456Z
LAST-MODIFIED:20251215T163748Z
UID:21500-1765900800-1765908000@icrimn.com
SUMMARY:ICRI MN Holiday Party 2025
DESCRIPTION:Cost: Free to ICRI MN Members and $25 for Guests/Non-Members \nMembers and Guests are invited to attend the MN Chapter of ICRI’s Annual Meeting and Holiday Reception. The program will include a short report on the success of 2025\, including a recognition of outgoing Board Members and the announcement of the election results for the 2026 Board of Directors and Committees. \nAppetizers and Cash Bar will be available.
URL:https://icrimn.com/event/icri-mn-holiday-party-2025/
LOCATION:Fhima’s Minneapolis\, 40 South 7th Street\, Minneapolis\, MN\, 55402\, United States
ATTACH;FMTTYPE=image/png:https://icrimn.com/wp-content/uploads/2025/11/1.png
END:VEVENT
BEGIN:VEVENT
DTSTART;TZID=America/Chicago:20260108T070000
DTEND;TZID=America/Chicago:20260108T143000
DTSTAMP:20260424T103838
CREATED:20251031T145508Z
LAST-MODIFIED:20260106T145510Z
UID:21510-1767855600-1767882600@icrimn.com
SUMMARY:Mega Demo 2026
DESCRIPTION:Register now! \nJanuary 8\, 2026\, at the Cement Mason’s Local 633.
URL:https://icrimn.com/event/mega-demo-2026/
LOCATION:Cement Masons Plasterers Shophands Local 633 Training Center\, 2180 Old Highway 8 NW\, New Brighton\, MN\, 55112\, United States
ATTACH;FMTTYPE=image/png:https://icrimn.com/wp-content/uploads/2025/11/2.png
END:VEVENT
BEGIN:VEVENT
DTSTART;TZID=America/Chicago:20260108T150000
DTEND;TZID=America/Chicago:20260108T180000
DTSTAMP:20260424T103838
CREATED:20251229T172221Z
LAST-MODIFIED:20251229T175842Z
UID:21630-1767884400-1767895200@icrimn.com
SUMMARY:Retirement Party for Marthe Brock
DESCRIPTION:Join us as we celebrate Marthe Brock’s Retirement after 38 years of dedicated service in the construction materials industry! This is a wonderful opportunity to show our appreciation for her hard work and to wish her well. \n\nEvent Details:\n📅 Date: Thursday\, January 8th\n⏰ Time: 3:00 PM – 6:00 PM\n📍 Location: Cowboy Jacks\n2397 Palmer Drive\, New Brighton\, MN 55122 \nWe hope you’ll join us to share stories\, laughter\, and make this a memorable send-off! \nPlease RSVP by January 5th.
URL:https://icrimn.com/event/retirement-party-for-marthe-brock/
LOCATION:Cowboy Jacks New Brighton\, 2397 Palmer Drive\, New Brighton\, MN\, 55122\, United States
ATTACH;FMTTYPE=image/jpeg:https://icrimn.com/wp-content/uploads/2025/12/Black-and-Luxury-Simple-Retirement-Party-Banner-1-scaled.jpg
END:VEVENT
BEGIN:VEVENT
DTSTART;TZID=America/Chicago:20260312T113000
DTEND;TZID=America/Chicago:20260312T160000
DTSTAMP:20260424T103838
CREATED:20260106T162303Z
LAST-MODIFIED:20260107T155446Z
UID:21749-1773315000-1773331200@icrimn.com
SUMMARY:ICRI Curling - 2026
DESCRIPTION:Join the Minnesota Chapter of ICRI\, along with your industry peers and friends\, for a fun day on the pebbled ice for our Annual FunSpiel! \nWe will be hosting our annual curling event at the St Paul Curling Club. \n\nDate: Thursday\, March 12\, 2026\nRegistration at 11:30 am\, followed by a short introduction\nIce time from Noon to 2:30 pm\nPost ice time social until 4:00 pm\nPlease choose an option based on your comfort level with curling.\nLight lunch will be provided\, along with a drink ticket\n\nRegister Today!
URL:https://icrimn.com/event/icri-curling-2026/
LOCATION:Private: Saint Paul Curling Club\, 470 Selby Ave\, Saint Paul\, Minnesota\, 55102\, United States
ATTACH;FMTTYPE=image/jpeg:https://icrimn.com/wp-content/uploads/2026/01/3-scaled.jpg
END:VEVENT
BEGIN:VEVENT
DTSTART;TZID=America/Chicago:20260512T090000
DTEND;TZID=America/Chicago:20260512T110000
DTSTAMP:20260424T103838
CREATED:20260317T200046Z
LAST-MODIFIED:20260406T162647Z
UID:21902-1778576400-1778583600@icrimn.com
SUMMARY:Spring Technical Session 2026
DESCRIPTION:ICRI 2026 Spring Technical Session\n  \n“Concrete Rehabilitation Gone Wrong: Managing the Urgent Response to Partial Collapses”\nPresenters: \nGeorge Mulholland – Principal – Raths\, Raths & Johnson\, Inc. https://rrj.com/wp-content/uploads/2021/03/GRMresume.pdf \n \n  \n  \n  \n  \n  \n  \n__________________________________________________________ \nColin Rueb – Senior Engineer – Raths\, Raths & Johnson\, Inc. https://rrj.com/wp-content/uploads/2021/03/CPRresume.pdf \n \n  \n  \n  \n  \n  \n  \n  \nThe presentation will describe real-world case studies of concrete rehabilitation projects that experienced partial collapse events during active construction\, and the steps taken by the forensic structural engineer during the subsequent urgent response.  Key takeaways from these case studies will suggest how to apply these hard-learned lessons to future repair strategies.
URL:https://icrimn.com/event/spring-technical-session-2026/
LOCATION:University of Saint Thomas\, 2115 Summit Ave\, Saint Paul\, 55105\, United States
ATTACH;FMTTYPE=image/png:https://icrimn.com/wp-content/uploads/2026/03/Spring-Tech-2026-1.png
END:VEVENT
BEGIN:VEVENT
DTSTART;TZID=America/Chicago:20260714T070000
DTEND;TZID=America/Chicago:20260714T160000
DTSTAMP:20260424T103838
CREATED:20260220T144355Z
LAST-MODIFIED:20260420T150423Z
UID:21870-1784012400-1784044800@icrimn.com
SUMMARY:Annual ICRI Golf Tournament 2026
DESCRIPTION:ICRI Annual Golf Tournament Tuesday\, July 14\, 2026\nAt Bunker Hills Golf Course\nEarly Bird Tickets Available May 18\, 2026\nSchedule:\nRegistration Opens – 8:30am \nShotgun Start – 10:00am \nPost-Golf Reception – 2:00pm \nTicket Information:\nPricing information coming soon. \nJoin the ICRI MN Chapter for our Annual Golf even Scholarship fundraiser. This years’ tournament will be held at Bunker Hills. Show up early for some practice swings at the open driving range and putting green. Join your friends and network on the course. After golf we’ll have a brier awards presentation and door prizes then stay and grab a drink and have a bit to eat at Kendall’s Tavern. Each year the ICRI MN Chapter offers scholarships for students who are enrolled in a College or University program with a focus in engineering\, construction\, or concrete sciences. A full description and the application can be found here. \n\n\n\nSponsorship\nValue\nCompany Sign at Tee Box\n \nAttendant/Game at Tee Box\n \n$250 in Door prizes Donated in Company Name\n \n1 Drink Ticket per Golfer with Company Logo\n\n\nPar\n$100\nX\n\n\n\n\n\n\n\n\nBirdie\n$250\nX\n\nX\n\n\n\n\n\n\nEagle\n$500\nX\n\nX\n\nX\n\n\n\n\n     Albatross          (1 Available)\n$1\,500\nX\n\nX\n\n\n\nX\n\n\n\n  \nFor questions on registration contact Adam Bakeman at abakeman@walkerconsultants.com\nHave a Great Day!\n 
URL:https://icrimn.com/event/annual-icri-golf-tournament-2025-2/
LOCATION:Bunker Hills Golf Club\, 12800 Bunker Prairie Rd NW\, Coon Rapids\, MN\, 55448\, United States
ATTACH;FMTTYPE=image/jpeg:https://icrimn.com/wp-content/uploads/2026/02/Terry-Babcock-Memorial-Golf-Tournament-Instagram-Post-1-scaled.jpg
END:VEVENT
END:VCALENDAR