BEGIN:VCALENDAR
VERSION:2.0
PRODID:-//ICRI Minnesota - ECPv6.15.17//NONSGML v1.0//EN
CALSCALE:GREGORIAN
METHOD:PUBLISH
X-ORIGINAL-URL:https://icrimn.com
X-WR-CALDESC:Events for ICRI Minnesota
REFRESH-INTERVAL;VALUE=DURATION:PT1H
X-Robots-Tag:noindex
X-PUBLISHED-TTL:PT1H
BEGIN:VTIMEZONE
TZID:America/Chicago
BEGIN:DAYLIGHT
TZOFFSETFROM:-0600
TZOFFSETTO:-0500
TZNAME:CDT
DTSTART:20240310T080000
END:DAYLIGHT
BEGIN:STANDARD
TZOFFSETFROM:-0500
TZOFFSETTO:-0600
TZNAME:CST
DTSTART:20241103T070000
END:STANDARD
BEGIN:DAYLIGHT
TZOFFSETFROM:-0600
TZOFFSETTO:-0500
TZNAME:CDT
DTSTART:20250309T080000
END:DAYLIGHT
BEGIN:STANDARD
TZOFFSETFROM:-0500
TZOFFSETTO:-0600
TZNAME:CST
DTSTART:20251102T070000
END:STANDARD
BEGIN:DAYLIGHT
TZOFFSETFROM:-0600
TZOFFSETTO:-0500
TZNAME:CDT
DTSTART:20260308T080000
END:DAYLIGHT
BEGIN:STANDARD
TZOFFSETFROM:-0500
TZOFFSETTO:-0600
TZNAME:CST
DTSTART:20261101T070000
END:STANDARD
END:VTIMEZONE
BEGIN:VEVENT
DTSTART;TZID=America/Chicago:20250110T060000
DTEND;TZID=America/Chicago:20250110T133000
DTSTAMP:20260424T133144
CREATED:20240816T192014Z
LAST-MODIFIED:20250106T210541Z
UID:20473-1736488800-1736515800@icrimn.com
SUMMARY:Mega Demo 2025
DESCRIPTION:Join industry leaders for a full day of corrosion education and hands-on demonstrations. Explore cutting-edge solutions\, best practices\, and research findings to protect and extend the life of concrete and steel structures. Network with peers\, gain actionable insights\, and earn 5 professional development hours. \nAgenda Highlights: \n\nKeynote presentations by MnDOT and industry experts\nHands-on demonstrations: Measuring and detecting corrosion\nNetworking opportunities with top professionals and exhibitors\nLunch and awards ceremony\n\nDon’t miss this opportunity to advance your knowledge and professional skills in corrosion prevention and protection Register now to secure your spot \nAgenda\n7:00 – 8:00 AM – Registration\, Tabletop visits\, Networking\n8:00 – 8:15 AM – Introductions & Kick off\n8:15 – 9:05AM – Evaluation of ECE\, FRP\, and Sealers for Corrosion Mitigation in Reinforced Concrete Bridges (Paul Pilarski\, MnDOT and Mark Chuavin\, WJE)\n9:05 – 10:00 AM – Galvanic Anodes & Cathodic Protection (Nick Drews\, Vector Corrosion Technologies)\n10:00 – 10:30 AM – Hands On Demonstrations – Measuring & Detecting Corrosion (Nick Drews\, Vector Corrosion Technologies\, Bijan Mahbaz\, InspecTerra\, Inc.)\n10:30 – 10:45 – BREAK & Visit Tabletops\n10:45 – 11:45 AM – Corrosion of Steel Reinforced Concrete – Causes & Prevention (Andrew M Jones\, Evonik and Atri Rungta\, Evonik)\n11:45 – 12:30 – LUNCH & Awards\n12:30 – 1:30 – iCAMM Technology: A Unique\, Easy to Operate\, Safe & Efficient Solution for Corrosion Detection (Bijan Mahbaz\, InspecTerra\, Inc.)\n1:30 – 2:30 – Extending the Service Life of Dockside Condominiums with a Combination of Advanced Cathodic Protection (Charlie Sault\, No Corrosion LLC (NOCO)) \n\nEvent Information \nEvaluation of ECE\, FRP\, and Sealers for Corrosion Mitigation in Reinforced Concrete Bridges\nPaul Pilarski\, MnDOT and Mark Chauvin\, WJE \nCorrosion Research was initiated in 1997 to investigate new strategies for corrosion mitigation that were implemented on the substructures of a bridge structure located in Minneapolis. In 2018\, after approximately 20 years of continued service\, follow-up research was conducted to assess the long-term effectiveness of the strategies implemented. This presentation will summarize the findings of the research. \nPaul Pilarski: Paul is a Bridge Construction and Scoping Engineer with the Bridge Office of the Minnesota Department of Transportation. Paul joined MnDOT in 2010 after working in the bridge design world for about 10 years following completion of his Master’s degree at the University of Minnesota. \nMark Chauvin: Mark is a Principal at WJE and currently serves as the Unit Manager of the Minneapolis office. Mark joined WJE in 1999 and\, since that time\, has developed significant experience investigating a wide variety of structural problems in building and bridges including corrosion-related damage in reinforced concrete structures. \n\nGalvanic Anodes and Cathodic Protection\nNick Drews\, Vector Corrosion Technologies \nThis presentation will take you back through the history to Cathodic Protection beginnings and move into covering Corrosion basics 101.  Following that\, the discussion will move into current design guides and codes while touching on the current best known Cathodic Protection design practices to halt corrosion well into the future. \nNick Drews: Nick is the Business Development Manager for Vector Corrosion Technologies with a background in Chemistry and Chemical Engineering from the University of Minnesota.  Nick spent several years with Vector’s Research and Development Team prior to joining the Business Group in 2021. \n\nCorrosion of Steel Reinforced Concrete – Causes and Prevention\nAndrew M Jones\, Evonik and Atri Rungta\, Evonik \nThe presentation provides detailed information on the electrochemical process which causes steel corrosion in concrete. The relationship between concrete quality\, design\, protective systems and corrosion initiation will be presented. The presentation will also include a brief description of the ICRI 510 document on corrosion. \nAndrew Jones:  Business Manager\, Building Protection North America BL Smart Effects. \nAtri Rungta\, PhD: Senior Scientist/Technical Marketing Manager\, Building Protection Evonik Corporation\, Piscataway\, NJ. Atri holds a PhD in Polymer Science from Rensselaer Polytech Institute. \n\niCAMM Technology: A Unique\, Easy to Operate\, Safe and Efficient Solution for Corrosion Detection\nBijan Mahbaz\, InspecTerra\, Inc. \nThis presentation will review the development of a novel methodology known as iCAMM\, designed for detecting corrosion in metallic objects under insulation (UCI)\, which is primarily applied to the condition assessment of infrastructure. \nBijan Mahbaz\, P.Eng.\, Ph.D: is the Co-founder and CEO of InspecTerra Inc. He holds a Ph.D. in Civil and Environmental Engineering from the University of Waterloo and earned his Master’s degree from the University of Tehran\, where he served as a research assistant for two years. With twenty years of experience in the oil and gas industry across Canada\, Iran\, East Asia\, the Middle East\, and Europe\, he has refined his skills as a project manager in various aspects of geophysical surveys and non-destructive testing. \n\nExtending the Service Life Dockside Condominiums with a Combination of Advanced Cathodic Protection.\nCharlie Sault\, No Corrosion\, LLC (NoCo) \nThis presentation is an overview of the Dockside Condominium project. \nHAVE A GREAT DAY!
URL:https://icrimn.com/event/mega-demo-2025/
LOCATION:Cement Masons Plasterers Shophands Local 633 Training Center\, 2180 Old Highway 8 NW\, New Brighton\, MN\, 55112\, United States
ATTACH;FMTTYPE=image/jpeg:https://icrimn.com/wp-content/uploads/2024/11/2-5.jpg
END:VEVENT
END:VCALENDAR